BEGIN:VCALENDAR
VERSION:2.0
PRODID:-//The 63 Car Club (Elgin) Ltd - ECPv4.8.2//NONSGML v1.0//EN
CALSCALE:GREGORIAN
METHOD:PUBLISH
X-WR-CALNAME:The 63 Car Club (Elgin) Ltd
X-ORIGINAL-URL:https://63carclub.com
X-WR-CALDESC:Events for The 63 Car Club (Elgin) Ltd
BEGIN:VEVENT
DTSTART;VALUE=DATE:20220709
DTEND;VALUE=DATE:20220710
DTSTAMP:20260424T112608
CREATED:20220110T115343Z
LAST-MODIFIED:20220626T185624Z
UID:3069-1657324800-1657411199@63carclub.com
SUMMARY:Blast from the Past Autotest
DESCRIPTION:Blast from the Past Autotest 2022 Regs \n2021-06-15-signing-on-declaration-competitor Read only \nEnter – https://autotest.sapphire-solutions.co.uk/marshalreg.php?sitename=elgin&event=565 \nEntry List -https://autotest.sapphire-solutions.co.uk/entry.php?sitename=elgin&sel_type=0 \nMarshal – https://autotest.sapphire-solutions.co.uk/register.php?sitename=elgin&event=565 \n
URL:https://63carclub.com/event/blast-from-the-past-autotest-2/
LOCATION:Thainstone Centre
END:VEVENT
END:VCALENDAR