BEGIN:VCALENDAR
VERSION:2.0
PRODID:-//The 63 Car Club (Elgin) Ltd - ECPv4.8.2//NONSGML v1.0//EN
CALSCALE:GREGORIAN
METHOD:PUBLISH
X-WR-CALNAME:The 63 Car Club (Elgin) Ltd
X-ORIGINAL-URL:https://63carclub.com
X-WR-CALDESC:Events for The 63 Car Club (Elgin) Ltd
BEGIN:VEVENT
DTSTART;VALUE=DATE:20220123
DTEND;VALUE=DATE:20220124
DTSTAMP:20260423T101906
CREATED:20211228T142930Z
LAST-MODIFIED:20220110T123252Z
UID:3050-1642896000-1642982399@63carclub.com
SUMMARY:January Autotest
DESCRIPTION:January-Autotest-2022-Regs \nCar’s entered in Class 2 (Autosolo) must be driven to the event and not trailered as per MSUK regs. \nEntry Form \nEntry List/Payment \nMarshals Registration \n
URL:https://63carclub.com/event/january-autotest/
LOCATION:Dallachy Airfield\, Speybay
ORGANIZER;CN="Bert%20Grant":MAILTO:bertgrant63@outlook.com
END:VEVENT
END:VCALENDAR