BEGIN:VCALENDAR
VERSION:2.0
PRODID:-//The 63 Car Club (Elgin) Ltd - ECPv4.8.2//NONSGML v1.0//EN
CALSCALE:GREGORIAN
METHOD:PUBLISH
X-WR-CALNAME:The 63 Car Club (Elgin) Ltd
X-ORIGINAL-URL:https://63carclub.com
X-WR-CALDESC:Events for The 63 Car Club (Elgin) Ltd
BEGIN:VEVENT
DTSTART;TZID=Europe/London:20220619T110000
DTEND;TZID=Europe/London:20220619T160000
DTSTAMP:20260424T095554
CREATED:20220110T115254Z
LAST-MODIFIED:20220516T175651Z
UID:3067-1655636400-1655654400@63carclub.com
SUMMARY:KNC Groundworks Autotest
DESCRIPTION:KNC Groundworks Autotest 2022 Regs \nEntry Link  \nMarshal Link \n  \n
URL:https://63carclub.com/event/knc-groundworks-autotest-2/
LOCATION:KNC Groundworks\, Alford
ORGANIZER;CN="Andrew%20Little":MAILTO:dittle3883@gmail.com
END:VEVENT
END:VCALENDAR