BEGIN:VCALENDAR
VERSION:2.0
PRODID:-//The 63 Car Club (Elgin) Ltd - ECPv4.8.2//NONSGML v1.0//EN
CALSCALE:GREGORIAN
METHOD:PUBLISH
X-WR-CALNAME:The 63 Car Club (Elgin) Ltd
X-ORIGINAL-URL:https://63carclub.com
X-WR-CALDESC:Events for The 63 Car Club (Elgin) Ltd
BEGIN:VEVENT
DTSTART;TZID=Europe/London:20220828T110000
DTEND;TZID=Europe/London:20220828T160000
DTSTAMP:20260423T143026
CREATED:20220110T115605Z
LAST-MODIFIED:20220825T075056Z
UID:3075-1661684400-1661702400@63carclub.com
SUMMARY:Loose Surface Autotest
DESCRIPTION:Park Autotest 2022 Regs \nEnter here – https://autotest.sapphire-solutions.co.uk/register.php?sitename=elgin&event=602 \n  \nMarshal – https://autotest.sapphire-solutions.co.uk/marshalreg.php?sitename=elgin&event=602 \n
URL:https://63carclub.com/event/loose-surface-autotest/
LOCATION:Newfield Farm\, Blackhills\, Nr Lhanbryde\, IV30 8QU
ORGANIZER;CN="Neil%20Philip":MAILTO:neilphilip63@yahoo.co.uk
END:VEVENT
END:VCALENDAR