BEGIN:VCALENDAR
VERSION:2.0
PRODID:-//The 63 Car Club (Elgin) Ltd - ECPv4.8.2//NONSGML v1.0//EN
CALSCALE:GREGORIAN
METHOD:PUBLISH
X-WR-CALNAME:The 63 Car Club (Elgin) Ltd
X-ORIGINAL-URL:https://63carclub.com
X-WR-CALDESC:Events for The 63 Car Club (Elgin) Ltd
BEGIN:VEVENT
DTSTART;VALUE=DATE:20220717
DTEND;VALUE=DATE:20220718
DTSTAMP:20260423T175256
CREATED:20220110T115414Z
LAST-MODIFIED:20220716T201744Z
UID:3071-1658016000-1658102399@63carclub.com
SUMMARY:Tour of Speyside
DESCRIPTION:  \nTour of Speyside 2022 Regs \nSigning On Tour Declaration Read Only don’t complete \nEntry Link –Enter here \nEntry List seeded list \nTour of Speyside 2022 Roadbook print \n63cc Tour of Speyside 2022 FINAL INSTRUCTIONS \nPayment You can pay by Paypal 63carclubelgin@gmail.com (friends/family option please)\nBACS Payment 63 Car Club (Elgin) LTD Account Number 00191437 Sort Code 80-06-66 Reference Driver Surname + Tour\n\n \n
URL:https://63carclub.com/event/tour-of-speyside/
ORGANIZER;CN="David%20Law":MAILTO:dlaw2@hotmail.co.uk
END:VEVENT
END:VCALENDAR